BEGIN:VCALENDAR
VERSION:2.0
PRODID:-//Tukios.com/
BEGIN:VEVENT
UID:61d06953-2370-49de-ae7f-dd0a51868a73@www.mulkeybowlesmontgomery.com
DTSTAMP:20260421T230408Z
DTSTART:20260423T150000Z
DTEND:20260423T213000Z
SUMMARY:Viewing
DESCRIPTION:Informal come and go for anyone who wishes to sign Maxine's 
	register and view.
URL:https://www.mulkeybowlesmontgomery.com/obituaries/mary-shadle
LOCATION: 705 N Locust St  Denton TX 76201
GEO:33.2202767;-97.1326567
END:VEVENT
END:VCALENDAR