BEGIN:VCALENDAR
VERSION:2.0
PRODID:-//Tukios.com/
BEGIN:VEVENT
UID:5618fda4-c3cd-4a9d-93e7-f717e474da81@www.mulkeybowlesmontgomery.com
DTSTAMP:20260421T230504Z
DTSTART:20260424T200000Z
DTEND:20260424T220000Z
SUMMARY:Reception
DESCRIPTION:Reception in the fellowship hall following the service
URL:https://www.mulkeybowlesmontgomery.com/obituaries/mary-shadle
LOCATION: 2300 East University Drive  Denton TX 76209
GEO:33.2343537;-97.1039785
END:VEVENT
END:VCALENDAR