BEGIN:VCALENDAR
VERSION:2.0
PRODID:-//Tukios.com/
BEGIN:VEVENT
UID:7a693bc1-b26c-4f01-8ac9-3f3e29935465@www.mulkeybowlesmontgomery.com
DTSTAMP:20260421T230434Z
DTSTART:20260424T190000Z
DTEND:20260424T200000Z
SUMMARY:Memorial Service
DESCRIPTION:
URL:https://www.mulkeybowlesmontgomery.com/obituaries/mary-shadle
LOCATION: 2300 East University Drive  Denton TX 76209
GEO:33.2343537;-97.1039785
END:VEVENT
END:VCALENDAR